Package: a4Classif Version: 1.56.0 Command: /home/biocbuild/bbs-3.21-bioc/R/bin/R CMD INSTALL a4Classif StartedAt: 2025-09-28 15:27:48 -0400 (Sun, 28 Sep 2025) EndedAt: 2025-09-28 15:27:55 -0400 (Sun, 28 Sep 2025) EllapsedTime: 7.0 seconds RetCode: 0 Status: OK