Package: a4Classif Version: 1.56.0 Command: /Library/Frameworks/R.framework/Resources/bin/R CMD INSTALL a4Classif StartedAt: 2025-04-21 15:13:23 -0400 (Mon, 21 Apr 2025) EndedAt: 2025-04-21 15:13:38 -0400 (Mon, 21 Apr 2025) EllapsedTime: 15.6 seconds RetCode: 0 Status: OK