Package: a4Classif Version: 1.56.0 Command: /Library/Frameworks/R.framework/Resources/bin/R CMD INSTALL a4Classif StartedAt: 2025-09-29 15:42:30 -0400 (Mon, 29 Sep 2025) EndedAt: 2025-09-29 15:42:38 -0400 (Mon, 29 Sep 2025) EllapsedTime: 7.9 seconds RetCode: 0 Status: OK