Package: a4Classif Version: 1.56.0 Command: /Library/Frameworks/R.framework/Resources/bin/R CMD build --keep-empty-dirs --no-resave-data a4Classif StartedAt: 2025-09-29 18:51:16 -0400 (Mon, 29 Sep 2025) EndedAt: 2025-09-29 18:51:52 -0400 (Mon, 29 Sep 2025) EllapsedTime: 36.6 seconds RetCode: 0 Status: OK PackageFile: a4Classif_1.56.0.tar.gz PackageFileSize: 637.7 KiB