Package: a4Classif Version: 1.56.0 Command: rm -rf a4Classif.buildbin-libdir && mkdir a4Classif.buildbin-libdir && /Users/biocbuild/BBS/utils/build-universal.sh a4Classif_1.56.0.tar.gz /Library/Frameworks/R.framework/Resources/bin/R a4Classif.buildbin-libdir StartedAt: 2025-10-01 17:17:26 -0400 (Wed, 01 Oct 2025) EndedAt: 2025-10-01 17:17:37 -0400 (Wed, 01 Oct 2025) EllapsedTime: 10.3 seconds RetCode: 0 Status: OK PackageFile: a4Classif_1.56.0.tgz PackageFileSize: 670.4 KiB