Package: a4Base Version: 1.58.0 Command: /home/biocbuild/R/R/bin/R CMD INSTALL a4Base StartedAt: 2025-11-10 21:59:30 -0000 (Mon, 10 Nov 2025) EndedAt: 2025-11-10 22:00:00 -0000 (Mon, 10 Nov 2025) EllapsedTime: 29.2 seconds RetCode: 0 Status: OK