Package: a4Base Version: 1.58.0 Command: /home/biocbuild/R/R/bin/R CMD build --keep-empty-dirs --no-resave-data a4Base StartedAt: 2025-11-10 23:20:38 -0000 (Mon, 10 Nov 2025) EndedAt: 2025-11-10 23:20:40 -0000 (Mon, 10 Nov 2025) EllapsedTime: 2.0 seconds RetCode: 0 Status: OK PackageFile: a4Base_1.58.0.tar.gz PackageFileSize: 366.5 KiB