Package: a4Base Version: 1.58.0 Command: /home/biocbuild/bbs-3.22-bioc/R/bin/R CMD INSTALL a4Base StartedAt: 2025-11-11 15:54:40 -0500 (Tue, 11 Nov 2025) EndedAt: 2025-11-11 15:55:01 -0500 (Tue, 11 Nov 2025) EllapsedTime: 21.1 seconds RetCode: 0 Status: OK