Package: a4Base Version: 1.58.0 Command: /home/biocbuild/bbs-3.22-bioc/R/bin/R CMD check --install=check:a4Base.install-out.txt --library=/home/biocbuild/bbs-3.22-bioc/R/site-library --timings a4Base_1.58.0.tar.gz StartedAt: 2025-11-11 21:03:41 -0500 (Tue, 11 Nov 2025) EndedAt: 2025-11-11 21:06:44 -0500 (Tue, 11 Nov 2025) EllapsedTime: 182.3 seconds RetCode: 0 Status: OK CheckDir: a4Base.Rcheck Warnings: 0