Package: a4Base Version: 1.56.0 Command: /home/biocbuild/bbs-3.21-bioc/R/bin/R CMD INSTALL a4Base StartedAt: 2025-09-28 16:04:26 -0400 (Sun, 28 Sep 2025) EndedAt: 2025-09-28 16:04:47 -0400 (Sun, 28 Sep 2025) EllapsedTime: 20.8 seconds RetCode: 0 Status: OK