Package: a4Base Version: 1.56.0 Command: /Library/Frameworks/R.framework/Resources/bin/R CMD INSTALL a4Base StartedAt: 2025-10-02 16:28:14 -0400 (Thu, 02 Oct 2025) EndedAt: 2025-10-02 16:29:00 -0400 (Thu, 02 Oct 2025) EllapsedTime: 46.0 seconds RetCode: 0 Status: OK