Package: a4Base Version: 1.56.0 Command: rm -rf a4Base.buildbin-libdir && mkdir a4Base.buildbin-libdir && /Users/biocbuild/BBS/utils/build-universal.sh a4Base_1.56.0.tar.gz /Library/Frameworks/R.framework/Resources/bin/R a4Base.buildbin-libdir StartedAt: 2025-10-03 12:37:57 -0400 (Fri, 03 Oct 2025) EndedAt: 2025-10-03 12:38:47 -0400 (Fri, 03 Oct 2025) EllapsedTime: 50.6 seconds RetCode: 0 Status: OK PackageFile: a4Base_1.56.0.tgz PackageFileSize: 571.1 KiB