Package: a4 Version: 1.56.0 Command: /home/biocbuild/R/R/bin/R CMD INSTALL a4 StartedAt: 2025-10-13 21:06:55 -0000 (Mon, 13 Oct 2025) EndedAt: 2025-10-13 21:07:22 -0000 (Mon, 13 Oct 2025) EllapsedTime: 27.5 seconds RetCode: 0 Status: OK