Package: a4 Version: 1.56.0 Command: /home/biocbuild/R/R/bin/R CMD build --keep-empty-dirs --no-resave-data a4 StartedAt: 2025-10-13 22:28:57 -0000 (Mon, 13 Oct 2025) EndedAt: 2025-10-13 22:32:40 -0000 (Mon, 13 Oct 2025) EllapsedTime: 223.1 seconds RetCode: 0 Status: OK PackageFile: a4_1.56.0.tar.gz PackageFileSize: 1.194 MiB