Package: a4 Version: 1.58.0 Command: /Library/Frameworks/R.framework/Resources/bin/R CMD INSTALL a4 StartedAt: 2025-10-30 15:26:05 -0400 (Thu, 30 Oct 2025) EndedAt: 2025-10-30 15:26:12 -0400 (Thu, 30 Oct 2025) EllapsedTime: 7.6 seconds RetCode: 0 Status: OK