Package: a4 Version: 1.58.0 Command: /Library/Frameworks/R.framework/Resources/bin/R CMD build --keep-empty-dirs --no-resave-data a4 StartedAt: 2025-10-29 21:57:25 -0400 (Wed, 29 Oct 2025) EndedAt: 2025-10-29 21:58:38 -0400 (Wed, 29 Oct 2025) EllapsedTime: 72.8 seconds RetCode: 0 Status: OK PackageFile: a4_1.58.0.tar.gz PackageFileSize: 1.189 MiB