Package: ZygosityPredictor Version: 1.8.0 Command: /home/biocbuild/bbs-3.21-bioc/R/bin/R CMD INSTALL ZygosityPredictor StartedAt: 2025-10-15 15:39:41 -0400 (Wed, 15 Oct 2025) EndedAt: 2025-10-15 15:40:22 -0400 (Wed, 15 Oct 2025) EllapsedTime: 40.3 seconds RetCode: 0 Status: OK