Package: ZygosityPredictor Version: 1.8.0 Command: /home/biocbuild/bbs-3.21-bioc/R/bin/R CMD build --keep-empty-dirs --no-resave-data ZygosityPredictor StartedAt: 2025-10-15 20:34:20 -0400 (Wed, 15 Oct 2025) EndedAt: 2025-10-15 20:35:23 -0400 (Wed, 15 Oct 2025) EllapsedTime: 63.1 seconds RetCode: 0 Status: OK PackageFile: ZygosityPredictor_1.8.0.tar.gz PackageFileSize: 823 KiB