Package: ZygosityPredictor Version: 1.8.0 Command: /home/biocbuild/R/R/bin/R CMD build --keep-empty-dirs --no-resave-data ZygosityPredictor StartedAt: 2025-10-03 05:41:09 -0000 (Fri, 03 Oct 2025) EndedAt: 2025-10-03 05:42:41 -0000 (Fri, 03 Oct 2025) EllapsedTime: 92.0 seconds RetCode: 0 Status: OK PackageFile: ZygosityPredictor_1.8.0.tar.gz PackageFileSize: 848.1 KiB