Package: ZygosityPredictor Version: 1.8.0 Command: /Library/Frameworks/R.framework/Resources/bin/R CMD build --keep-empty-dirs --no-resave-data ZygosityPredictor StartedAt: 2025-04-21 18:00:44 -0400 (Mon, 21 Apr 2025) EndedAt: 2025-04-21 18:01:12 -0400 (Mon, 21 Apr 2025) EllapsedTime: 28.1 seconds RetCode: 0 Status: OK PackageFile: ZygosityPredictor_1.8.0.tar.gz PackageFileSize: 823 KiB