Package: ZygosityPredictor Version: 1.8.0 Command: rm -rf ZygosityPredictor.buildbin-libdir && mkdir ZygosityPredictor.buildbin-libdir && /Users/biocbuild/BBS/utils/build-universal.sh ZygosityPredictor_1.8.0.tar.gz /Library/Frameworks/R.framework/Resources/bin/R ZygosityPredictor.buildbin-libdir StartedAt: 2025-04-21 22:57:02 -0400 (Mon, 21 Apr 2025) EndedAt: 2025-04-21 22:57:20 -0400 (Mon, 21 Apr 2025) EllapsedTime: 17.5 seconds RetCode: 0 Status: OK PackageFile: ZygosityPredictor_1.8.0.tgz PackageFileSize: 979.2 KiB