Package: ZygosityPredictor Version: 1.8.0 Command: /Library/Frameworks/R.framework/Resources/bin/R CMD build --keep-empty-dirs --no-resave-data ZygosityPredictor StartedAt: 2025-10-14 12:08:49 -0400 (Tue, 14 Oct 2025) EndedAt: 2025-10-14 12:10:08 -0400 (Tue, 14 Oct 2025) EllapsedTime: 79.4 seconds RetCode: 0 Status: OK PackageFile: ZygosityPredictor_1.8.0.tar.gz PackageFileSize: 823.1 KiB