Package: ZygosityPredictor Version: 1.8.0 Command: rm -rf ZygosityPredictor.buildbin-libdir && mkdir ZygosityPredictor.buildbin-libdir && /Users/biocbuild/BBS/utils/build-universal.sh ZygosityPredictor_1.8.0.tar.gz /Library/Frameworks/R.framework/Resources/bin/R ZygosityPredictor.buildbin-libdir StartedAt: 2025-10-15 21:04:25 -0400 (Wed, 15 Oct 2025) EndedAt: 2025-10-15 21:05:15 -0400 (Wed, 15 Oct 2025) EllapsedTime: 49.8 seconds RetCode: 0 Status: OK PackageFile: ZygosityPredictor_1.8.0.tgz PackageFileSize: 979.1 KiB