Package: ZygosityPredictor Version: 1.10.0 Maintainer: Marco Rheinnecker MaintainerEmail: marco.rheinnecker at dkfz-heidelberg.de git_url: https://git.bioconductor.org/packages/ZygosityPredictor git_branch: RELEASE_3_22 git_last_commit: 52dc6d0 git_last_commit_date: 2025-10-29 11:22:08 -0400 (Wed, 29 Oct 2025)