Package: YAPSA Version: 1.36.0 Command: /home/biocbuild/bbs-3.22-bioc/R/bin/R CMD INSTALL YAPSA StartedAt: 2025-11-11 15:54:17 -0500 (Tue, 11 Nov 2025) EndedAt: 2025-11-11 15:55:22 -0500 (Tue, 11 Nov 2025) EllapsedTime: 64.8 seconds RetCode: 0 Status: OK