Package: YAPSA Version: 1.36.0 Command: /home/biocbuild/bbs-3.22-bioc/R/bin/R CMD check --install=check:YAPSA.install-out.txt --library=/home/biocbuild/bbs-3.22-bioc/R/site-library --timings YAPSA_1.36.0.tar.gz StartedAt: 2025-11-15 05:42:14 -0500 (Sat, 15 Nov 2025) EndedAt: 2025-11-15 05:54:05 -0500 (Sat, 15 Nov 2025) EllapsedTime: 710.7 seconds RetCode: 0 Status: OK CheckDir: YAPSA.Rcheck Warnings: 0