Package: YAPSA Version: 1.34.0 Command: /home/biocbuild/bbs-3.21-bioc/R/bin/R CMD INSTALL YAPSA StartedAt: 2025-10-15 15:47:45 -0400 (Wed, 15 Oct 2025) EndedAt: 2025-10-15 15:48:49 -0400 (Wed, 15 Oct 2025) EllapsedTime: 64.0 seconds RetCode: 0 Status: OK