Package: YAPSA Version: 1.36.0 Command: /Library/Frameworks/R.framework/Resources/bin/R CMD build --keep-empty-dirs --no-resave-data YAPSA StartedAt: 2025-10-31 19:18:00 -0400 (Fri, 31 Oct 2025) EndedAt: 2025-10-31 19:21:49 -0400 (Fri, 31 Oct 2025) EllapsedTime: 229.6 seconds RetCode: 0 Status: OK PackageFile: YAPSA_1.36.0.tar.gz PackageFileSize: 4.015 MiB