Package: YAPSA Version: 1.36.0 Command: rm -rf YAPSA.buildbin-libdir && mkdir YAPSA.buildbin-libdir && /Users/biocbuild/BBS/utils/build-universal.sh YAPSA_1.36.0.tar.gz /Library/Frameworks/R.framework/Resources/bin/R YAPSA.buildbin-libdir StartedAt: 2025-11-01 02:04:43 -0400 (Sat, 01 Nov 2025) EndedAt: 2025-11-01 02:05:47 -0400 (Sat, 01 Nov 2025) EllapsedTime: 63.8 seconds RetCode: 0 Status: OK PackageFile: YAPSA_1.36.0.tgz PackageFileSize: 4.418 MiB