Package: YAPSA Version: 1.34.0 Command: /home/biocbuild/R/R/bin/R CMD INSTALL YAPSA StartedAt: 2025-10-06 21:05:20 -0000 (Mon, 06 Oct 2025) EndedAt: 2025-10-06 21:06:46 -0000 (Mon, 06 Oct 2025) EllapsedTime: 86.1 seconds RetCode: 0 Status: OK