Package: YAPSA Version: 1.34.0 Command: /home/biocbuild/R/R/bin/R CMD build --keep-empty-dirs --no-resave-data YAPSA StartedAt: 2025-10-07 05:40:41 -0000 (Tue, 07 Oct 2025) EndedAt: 2025-10-07 05:45:36 -0000 (Tue, 07 Oct 2025) EllapsedTime: 294.9 seconds RetCode: 0 Status: OK PackageFile: YAPSA_1.34.0.tar.gz PackageFileSize: 4.046 MiB