Package: Xeva Version: 1.26.0 Command: /home/biocbuild/bbs-3.22-bioc/R/bin/R CMD INSTALL Xeva StartedAt: 2025-11-05 15:46:01 -0500 (Wed, 05 Nov 2025) EndedAt: 2025-11-05 15:46:39 -0500 (Wed, 05 Nov 2025) EllapsedTime: 37.3 seconds RetCode: 0 Status: OK