Package: Xeva Version: 1.26.0 Command: /home/biocbuild/bbs-3.22-bioc/R/bin/R CMD build --keep-empty-dirs --no-resave-data --md5 Xeva StartedAt: 2025-11-05 20:56:31 -0500 (Wed, 05 Nov 2025) EndedAt: 2025-11-05 20:57:32 -0500 (Wed, 05 Nov 2025) EllapsedTime: 61.1 seconds RetCode: 0 Status: OK PackageFile: Xeva_1.26.0.tar.gz PackageFileSize: 1.576 MiB