Package: XeniumIO Version: 1.0.0 Command: chmod a+r XeniumIO -R && E:\biocbuild\bbs-3.21-bioc\R\bin\R.exe CMD build --keep-empty-dirs --no-resave-data XeniumIO StartedAt: 2025-08-14 22:59:37 -0400 (Thu, 14 Aug 2025) EndedAt: 2025-08-14 23:00:36 -0400 (Thu, 14 Aug 2025) EllapsedTime: 59.1 seconds RetCode: 0 Status: OK PackageFile: XeniumIO_1.0.0.tar.gz PackageFileSize: 229 KiB