Package: XeniumIO Version: 1.0.0 Command: rm -rf XeniumIO.buildbin-libdir && mkdir XeniumIO.buildbin-libdir && E:\biocbuild\bbs-3.21-bioc\R\bin\R.exe CMD INSTALL --build --library=XeniumIO.buildbin-libdir XeniumIO_1.0.0.tar.gz StartedAt: 2025-08-15 10:35:07 -0400 (Fri, 15 Aug 2025) EndedAt: 2025-08-15 10:35:38 -0400 (Fri, 15 Aug 2025) EllapsedTime: 30.6 seconds RetCode: 0 Status: OK PackageFile: XeniumIO_1.0.0.zip PackageFileSize: 278 KiB