Package: XVector Version: 0.50.0 Command: /home/biocbuild/bbs-3.22-bioc/R/bin/R CMD INSTALL XVector StartedAt: 2025-11-11 15:18:30 -0500 (Tue, 11 Nov 2025) EndedAt: 2025-11-11 15:18:45 -0500 (Tue, 11 Nov 2025) EllapsedTime: 14.9 seconds RetCode: 0 Status: OK