Package: XVector Version: 0.50.0 Command: /home/biocbuild/bbs-3.22-bioc/R/bin/R CMD check --install=check:XVector.install-out.txt --library=/home/biocbuild/bbs-3.22-bioc/R/site-library --timings XVector_0.50.0.tar.gz StartedAt: 2025-11-12 05:29:53 -0500 (Wed, 12 Nov 2025) EndedAt: 2025-11-12 05:30:59 -0500 (Wed, 12 Nov 2025) EllapsedTime: 66.1 seconds RetCode: 0 Status: WARNINGS CheckDir: XVector.Rcheck Warnings: 2