Package: XVector Version: 0.48.0 Command: rm -rf XVector.buildbin-libdir && mkdir XVector.buildbin-libdir && /Users/biocbuild/BBS/utils/build-universal.sh XVector_0.48.0.tar.gz /Library/Frameworks/R.framework/Resources/bin/R XVector.buildbin-libdir StartedAt: 2025-04-22 01:15:32 -0400 (Tue, 22 Apr 2025) EndedAt: 2025-04-22 01:15:55 -0400 (Tue, 22 Apr 2025) EllapsedTime: 23.5 seconds RetCode: 0 Status: OK PackageFile: XVector_0.48.0.tgz PackageFileSize: 623.2 KiB