Package: XVector Version: 0.48.0 Command: /Library/Frameworks/R.framework/Resources/bin/R CMD build --keep-empty-dirs --no-resave-data XVector StartedAt: 2025-04-21 18:00:14 -0400 (Mon, 21 Apr 2025) EndedAt: 2025-04-21 18:00:15 -0400 (Mon, 21 Apr 2025) EllapsedTime: 1.0 seconds RetCode: 0 Status: OK PackageFile: XVector_0.48.0.tar.gz PackageFileSize: 66.31 KiB