Package: XVector Version: 0.48.0 Command: /Library/Frameworks/R.framework/Resources/bin/R CMD INSTALL XVector StartedAt: 2025-10-13 15:39:43 -0400 (Mon, 13 Oct 2025) EndedAt: 2025-10-13 15:40:00 -0400 (Mon, 13 Oct 2025) EllapsedTime: 16.9 seconds RetCode: 0 Status: OK