Package: XVector Version: 0.48.0 Command: /Library/Frameworks/R.framework/Resources/bin/R CMD build --keep-empty-dirs --no-resave-data XVector StartedAt: 2025-10-14 12:04:16 -0400 (Tue, 14 Oct 2025) EndedAt: 2025-10-14 12:04:18 -0400 (Tue, 14 Oct 2025) EllapsedTime: 2.1 seconds RetCode: 0 Status: OK PackageFile: XVector_0.48.0.tar.gz PackageFileSize: 66.32 KiB