Package: XVector Version: 0.48.0 Command: rm -rf XVector.buildbin-libdir && mkdir XVector.buildbin-libdir && /Users/biocbuild/BBS/utils/build-universal.sh XVector_0.48.0.tar.gz /Library/Frameworks/R.framework/Resources/bin/R XVector.buildbin-libdir StartedAt: 2025-10-15 21:03:15 -0400 (Wed, 15 Oct 2025) EndedAt: 2025-10-15 21:03:36 -0400 (Wed, 15 Oct 2025) EllapsedTime: 20.4 seconds RetCode: 0 Status: OK PackageFile: XVector_0.48.0.tgz PackageFileSize: 621.3 KiB