Package: XNAString Version: 1.18.0 Command: /home/biocbuild/R/R/bin/R CMD INSTALL XNAString StartedAt: 2025-11-13 21:59:29 -0000 (Thu, 13 Nov 2025) EndedAt: 2025-11-13 21:59:36 -0000 (Thu, 13 Nov 2025) EllapsedTime: 7.5 seconds RetCode: 1 Status: ERROR