Package: XNAString Version: 1.18.0 Command: /home/biocbuild/R/R/bin/R CMD build --keep-empty-dirs --no-resave-data XNAString StartedAt: 2025-11-11 06:16:15 -0000 (Tue, 11 Nov 2025) EndedAt: 2025-11-11 06:16:23 -0000 (Tue, 11 Nov 2025) EllapsedTime: 8.0 seconds RetCode: 1 Status: ERROR PackageFile: None PackageFileSize: NA