Package: XNAString Version: 1.18.0 Command: /home/biocbuild/bbs-3.22-bioc/R/bin/R CMD INSTALL XNAString StartedAt: 2025-11-11 15:55:22 -0500 (Tue, 11 Nov 2025) EndedAt: 2025-11-11 15:55:27 -0500 (Tue, 11 Nov 2025) EllapsedTime: 5.2 seconds RetCode: 1 Status: ERROR