Package: XNAString Version: 1.16.0 Command: /home/biocbuild/bbs-3.21-bioc/R/bin/R CMD INSTALL XNAString StartedAt: 2025-09-28 16:05:12 -0400 (Sun, 28 Sep 2025) EndedAt: 2025-09-28 16:05:17 -0400 (Sun, 28 Sep 2025) EllapsedTime: 5.1 seconds RetCode: 1 Status: ERROR