Package: XNAString Version: 1.16.0 Command: rm -rf XNAString.buildbin-libdir && mkdir XNAString.buildbin-libdir && /Users/biocbuild/BBS/utils/build-universal.sh XNAString_1.16.0.tar.gz /Library/Frameworks/R.framework/Resources/bin/R XNAString.buildbin-libdir StartedAt: 2025-10-14 15:04:22 -0400 (Tue, 14 Oct 2025) EndedAt: 2025-10-14 15:07:36 -0400 (Tue, 14 Oct 2025) EllapsedTime: 193.5 seconds RetCode: 0 Status: OK PackageFile: XNAString_1.16.0.tgz PackageFileSize: 1.717 MiB