Package: XNAString Version: 1.16.0 Command: /Library/Frameworks/R.framework/Resources/bin/R CMD INSTALL XNAString StartedAt: 2025-09-25 17:59:43 -0400 (Thu, 25 Sep 2025) EndedAt: 2025-09-25 17:59:49 -0400 (Thu, 25 Sep 2025) EllapsedTime: 5.8 seconds RetCode: 1 Status: ERROR