Package: XNAString Version: 1.16.0 Command: /Library/Frameworks/R.framework/Resources/bin/R CMD build --keep-empty-dirs --no-resave-data XNAString StartedAt: 2025-09-30 11:58:11 -0400 (Tue, 30 Sep 2025) EndedAt: 2025-09-30 11:58:18 -0400 (Tue, 30 Sep 2025) EllapsedTime: 6.9 seconds RetCode: 1 Status: ERROR PackageFile: None PackageFileSize: NA