Package: XINA Version: 1.26.0 Command: /home/biocbuild/R/R/bin/R CMD INSTALL XINA StartedAt: 2025-10-13 20:22:45 -0000 (Mon, 13 Oct 2025) EndedAt: 2025-10-13 20:22:55 -0000 (Mon, 13 Oct 2025) EllapsedTime: 10.3 seconds RetCode: 0 Status: OK